BEGIN:VCALENDAR
VERSION:2.0
PRODID:-//SoulCollage® Studio - ECPv6.15.20//NONSGML v1.0//EN
CALSCALE:GREGORIAN
METHOD:PUBLISH
X-ORIGINAL-URL:https://www.inume.de
X-WR-CALDESC:Veranstaltungen für SoulCollage® Studio
REFRESH-INTERVAL;VALUE=DURATION:PT1H
X-Robots-Tag:noindex
X-PUBLISHED-TTL:PT1H
BEGIN:VTIMEZONE
TZID:Europe/Berlin
BEGIN:DAYLIGHT
TZOFFSETFROM:+0100
TZOFFSETTO:+0200
TZNAME:CEST
DTSTART:20220327T010000
END:DAYLIGHT
BEGIN:STANDARD
TZOFFSETFROM:+0200
TZOFFSETTO:+0100
TZNAME:CET
DTSTART:20221030T010000
END:STANDARD
BEGIN:DAYLIGHT
TZOFFSETFROM:+0100
TZOFFSETTO:+0200
TZNAME:CEST
DTSTART:20230326T010000
END:DAYLIGHT
BEGIN:STANDARD
TZOFFSETFROM:+0200
TZOFFSETTO:+0100
TZNAME:CET
DTSTART:20231029T010000
END:STANDARD
BEGIN:DAYLIGHT
TZOFFSETFROM:+0100
TZOFFSETTO:+0200
TZNAME:CEST
DTSTART:20240331T010000
END:DAYLIGHT
BEGIN:STANDARD
TZOFFSETFROM:+0200
TZOFFSETTO:+0100
TZNAME:CET
DTSTART:20241027T010000
END:STANDARD
END:VTIMEZONE
BEGIN:VEVENT
DTSTART;TZID=Europe/Berlin:20230906T183000
DTEND;TZID=Europe/Berlin:20230906T213000
DTSTAMP:20260425T124722
CREATED:20230901T093109Z
LAST-MODIFIED:20240204T175946Z
UID:1476-1694025000-1694035800@www.inume.de
SUMMARY:SoulCollage® Karten Workshop - für Interessent*innen mit SoulCollage®-Erfahrung
DESCRIPTION:Gelegenheit\nEin Abendworkshop zum Gestalten (und Lesen) von SoulCollage®-Karten mit lizenzfreiem Bildmaterial\n\n\n\nMöchtest du deine gestalteten SoulCollage®Karten für Werbung oder eigene Flyer oder deinen Internetauftritt benutzen? Dieses spontane SoulCollage®- Event bietet eine entsprechende Gelegenheit\, denn wir gestalten die SoulCollage®-Karten ausschließlich mit lizenzfreiem Bildmaterial. \nGestaltung (und Lesen) von zwei SoulCollage®Karten zu folgenden Themen: \n*** „Door-Opener“-Karte ***\nund wahlweise:\n*** Entwicklung/Entfaltung/Wachstum *** *** Sich-Zeigen / Mutkarte ***\n*** Feld der Möglichkeiten / Fülle *** \nmit jeweils einer kleinen Einführung in die Themenbereiche. \n\n\n\n\nSoulCollage® Facilitator:\nGastgeber / SoulCollage® Facilitator: \n\n\nUlrike Potthast-Kühn \nKontakt: \nMobil: 0160 97942207 \noder über  www.inume.de/kontakt \nTermin | Uhrzeit | Dauer: \nMittwoch\, 06.09.2023 / 18.30 Uhr / ca. 3 Std. (Anmeldung erbeten bis So 03.09.2023 bei Ulrike) \nOrt: \n@home bei Beate Niebler \n80636 München (Neuhausen)\, Rüthlingstr. 2 \nKosten: \n49 € incl. sämtlichem lizenzfreiem Bild-Material und aller weiterer Materialen zur Gestaltung der Karten sowie incl. Getränke und Snacks \n\n\n\n\nHinweis: \nDer Karten-Workshop findet ab 5 Teilnehmern statt. (begrenzte Teilnehmerzahl)
URL:https://www.inume.de/event/soulcollage-karten-workshop-fuer-interessentinnen-mit-soulcollage-erfahrung
LOCATION:München Neuhausen\, Rüthlingstr. 2\, München\, Bayern\, 80636\, Deutschland
CATEGORIES:SoulCollage,Workshop
ATTACH;FMTTYPE=image/png:https://www.inume.de/wp-content/uploads/2023/09/inume20230901_1.png
ORGANIZER;CN="inume":MAILTO:info@inume.de
END:VEVENT
END:VCALENDAR