BEGIN:VCALENDAR
VERSION:2.0
PRODID:-//SoulCollage® Studio - ECPv6.15.20//NONSGML v1.0//EN
CALSCALE:GREGORIAN
METHOD:PUBLISH
X-WR-CALNAME:SoulCollage® Studio
X-ORIGINAL-URL:https://www.inume.de
X-WR-CALDESC:Veranstaltungen für SoulCollage® Studio
REFRESH-INTERVAL;VALUE=DURATION:PT1H
X-Robots-Tag:noindex
X-PUBLISHED-TTL:PT1H
BEGIN:VTIMEZONE
TZID:Europe/Berlin
BEGIN:DAYLIGHT
TZOFFSETFROM:+0100
TZOFFSETTO:+0200
TZNAME:CEST
DTSTART:20230326T010000
END:DAYLIGHT
BEGIN:STANDARD
TZOFFSETFROM:+0200
TZOFFSETTO:+0100
TZNAME:CET
DTSTART:20231029T010000
END:STANDARD
BEGIN:DAYLIGHT
TZOFFSETFROM:+0100
TZOFFSETTO:+0200
TZNAME:CEST
DTSTART:20240331T010000
END:DAYLIGHT
BEGIN:STANDARD
TZOFFSETFROM:+0200
TZOFFSETTO:+0100
TZNAME:CET
DTSTART:20241027T010000
END:STANDARD
BEGIN:DAYLIGHT
TZOFFSETFROM:+0100
TZOFFSETTO:+0200
TZNAME:CEST
DTSTART:20250330T010000
END:DAYLIGHT
BEGIN:STANDARD
TZOFFSETFROM:+0200
TZOFFSETTO:+0100
TZNAME:CET
DTSTART:20251026T010000
END:STANDARD
END:VTIMEZONE
BEGIN:VEVENT
DTSTART;TZID=Europe/Berlin:20240915T103000
DTEND;TZID=Europe/Berlin:20240915T170000
DTSTAMP:20260424T113636
CREATED:20240818T142531Z
LAST-MODIFIED:20240914T070631Z
UID:3675-1726396200-1726419600@www.inume.de
SUMMARY:Dialog mit dem Inneren Kind - SoulCollage Workshop
DESCRIPTION:Dialog mit dem Inneren Kind\nSoulCollage® Workshop mit anschließender spiritueller Wegbegleitung durch Achala Khan. \nSoulCollage Methode\nDie SoulCollage®-Methode ist eine kreative und therapeutische Methode – entwickelt von der amerikanischen Psychotherapeutin Seena B. Frost. Deine eigens kreierten SoulCollage®-Karten können dir helfen\, eine visuelle und emotionale Verbindung zu Teilen deines Selbst herzustellen. Die Collagen-Erstellung erfolgt anhand deiner intuitiven Bilderauswahl\, mit Schere\, Cutter und Kleber\, spielerisch und nach Gefühl. Hierfür sind keine künstlerischen Fähigkeiten oder Vorkenntnisse erforderlich. Zum Abschluss werden die Karten anhand spezieller Fragestellungen „gelesen“ und hierbei wird jede Karte als „eine Stimme“ betrachtet\, die einen bestimmten Aspekt deines Selbst repräsentiert. \nThema des Workshops: „Dialog mit dem Inneren-Kind“\nDieser Workshop bietet dir die Gelegenheit\, in Dialog mit deinen „Inneren-Kind-Anteilen“ zu kommen. An diesem Tag erwarten dich eine kurze Einführung in die SoulCollage®-Methode\, eine geführte Meditation zum Thema „Inneres Kind“ sowie die Gestaltung von individuellen Collage-Karten anhand speziellen Bildmaterials zum Thema „Innere-Kinder“. Die SoulCollage®-Methode wird angeleitet von Ulrike Potthast (SoulCollage®-Facilitatorin) \nInneres Kind\, Thema eines SoulCollage® Workshops von inume\nSoulCollage Karten (Collagen-Erstellung)\nNach der intuitiven Collage-Erstellung kannst du erneut in ergänzender Art und Weise in Kontakt mit deinem Inneren Kind treten\, das in deinem Unterbewusst-SEIN lebt. Es führt dich und kann deine Entscheidungen und dein Verhalten sogar sabotieren. Es beeinflusst\, wie du auf Herausforderungen reagierst und wie du dein Leben lebst. \nSpirituelle Wegbegleitung\nAchAla bietet dir eine einfühlsame Wegbegleitung und astrologisches Würfeln und somit die Möglichkeit weiter in die Tiefe zu gehen\,  neue Bilder und Glaubenssätze entstehen zu lassen und in Heilung mit deinem Inneren-Kind-Anteilen zu gehen; sei es\, mit deinem Schattenkind Frieden und Freundschaft zu schließen oder dein Sonnenkind zu entdecken und zu befreien. AchAla Khan ist eine weltweit geschulte spirituelle Heilerin und Wegbegleiterin. Sie ist astrologisch geschult\, medial mit der geistigen Welt verbunden und geht in Kontakt mit deinem  Seelen- und Bewusstseinsweg. \nVeranstaltungsort\nRenate Linsmeier (AKABEMA)\, Am Bruckerfeld 4\, 82547 Beuerberg (Nähe Starnberger See) \nTermin:  15. September 2024\, Start 10:30\, Ende ca. 17:00\nEnergieausgleich/Kosten:\n€ 99 pro Person \n✎ ❤️ ☞ „bring-a-friend“ für Anmeldungen zu zweit: € 84 pro Person \nDer Energieausgleich beinhaltet: sämtliches Material für SoulCollage®\, Getränke und Snacks in den Pausen. \nBitte selbst mitbringen: eigene Brotzeit für die Mittagspause\, Schreibzeug und Hausschuhe. \nKursleitung:\nUlrike Potthast\, SoulCollage® Facilitatorin aus Vaterstetten b. München \nThema Verantwortung:\nAls Teilnehmer*in an oben genanntem Kurs\, trage ich in jedem Fall die volle Verantwortung für mich\, meine physische\, psychische und mentale Gesundheit selbst. Die Veranstalter und Leiter übernehmen für etwaige Schäden an Personen und Sachen\, außer bei Grobfahrlässigkeit ihrerseits\, keine Haftung. Mit meiner Anmeldung stimme ich den genannten Bedingungen zu. \n\nAnmeldung/Registrierung:\nBevorzugt bitte direkt über diese Veranstaltungsseite (alternativ telefonisch oder per WhatsApp) \nUlrike Potthast (inume): 0160 – 9794 22 07 \nRenate Linsmeier (AKABEMA): 0179 – 9267132 \nWichtiger Hinweise: Dieser SoulCollage® Workshop findet ab 6 Teilnehmern statt (Mindest-Teilnehmerzahl)
URL:https://www.inume.de/event/dialog-mit-dem-inneren-kind-soulcollage-workshop
LOCATION:AKABEMA –\, Am Bruckerfeld 4\, Beuerberg\, Bayern\, 82547\, Germany
CATEGORIES:Seminar,SoulCollage,Veranstaltung,Workshop
ATTACH;FMTTYPE=image/jpeg:https://www.inume.de/wp-content/uploads/2024/08/SC-Karte-inume-20240818-1.jpeg
ORGANIZER;CN="inume - souldrops":MAILTO:info@inume.de
END:VEVENT
END:VCALENDAR