BEGIN:VCALENDAR
VERSION:2.0
PRODID:-//SoulCollage® Studio - ECPv6.15.20//NONSGML v1.0//EN
CALSCALE:GREGORIAN
METHOD:PUBLISH
X-WR-CALNAME:SoulCollage® Studio
X-ORIGINAL-URL:https://www.inume.de
X-WR-CALDESC:Veranstaltungen für SoulCollage® Studio
REFRESH-INTERVAL;VALUE=DURATION:PT1H
X-Robots-Tag:noindex
X-PUBLISHED-TTL:PT1H
BEGIN:VTIMEZONE
TZID:Europe/Berlin
BEGIN:DAYLIGHT
TZOFFSETFROM:+0100
TZOFFSETTO:+0200
TZNAME:CEST
DTSTART:20240331T010000
END:DAYLIGHT
BEGIN:STANDARD
TZOFFSETFROM:+0200
TZOFFSETTO:+0100
TZNAME:CET
DTSTART:20241027T010000
END:STANDARD
BEGIN:DAYLIGHT
TZOFFSETFROM:+0100
TZOFFSETTO:+0200
TZNAME:CEST
DTSTART:20250330T010000
END:DAYLIGHT
BEGIN:STANDARD
TZOFFSETFROM:+0200
TZOFFSETTO:+0100
TZNAME:CET
DTSTART:20251026T010000
END:STANDARD
BEGIN:DAYLIGHT
TZOFFSETFROM:+0100
TZOFFSETTO:+0200
TZNAME:CEST
DTSTART:20260329T010000
END:DAYLIGHT
BEGIN:STANDARD
TZOFFSETFROM:+0200
TZOFFSETTO:+0100
TZNAME:CET
DTSTART:20261025T010000
END:STANDARD
END:VTIMEZONE
BEGIN:VEVENT
DTSTART;TZID=Europe/Berlin:20251115T100000
DTEND;TZID=Europe/Berlin:20251115T180000
DTSTAMP:20260421T160504
CREATED:20251012T154824Z
LAST-MODIFIED:20251015T135437Z
UID:6320-1763200800-1763229600@www.inume.de
SUMMARY:SoulCollage zum Thema Chirons Schmerz und Heilung mit AstroWürfeln
DESCRIPTION:WUNDE-R-n | SoulCollage® zum Thema Chirons Schmerz und Heilung mit AstroWürfeln.\n\n\nWas dich in diesem (Tages)-Workshop erwartet:\nAstrologische Aussagen und Astro-Würfel geleitet von AchAla:\nChiron der „verwundete Heiler“ ist ein Planetoid und symbolisiert in unserem Geburtshoroskop (Radix) unsere innerseelischen Verletzungen und gleichzeitig wo Heilung in Wandlung geboren werden möchte. So kann aus dem Schmerz Staunen und aus der Wunde ein Wunder werden. Die Astro-Würfel öffnen weiteren Zugang zu diesen Themen und laden ein\, die eigenen Wunden als Wegweiser zu empfangen und einzusetzen. \nIm Dialog mit SoulCollage® angeleitet von Ulrike:\nMit der intuitiven und kreativen Bild- und Collagenarbeit von SoulCollage® kannst du dir nach der astrologischen Betrachtung die „Wunde-R“ deines Lebenswegs bewusster machen und damit in Verbindung gehen. Die faszinierende SoulCollage®-Methode ermöglicht dir den Zugang zu deinem inneren Wissen und zu deiner Seelensprache. Du gestaltest eigene Collage-Karten zu deinen eigenen relevanten Themen\, die die Visionen deiner Seele spiegeln und die im Anschluss durch spezielle Fragestellungen und das Lesen nach der SoulCollage®-Methode reflektiert werden. Vorkenntnisse oder künstlerische Erfahrung sind nicht notwendig. \n\n\nVoraussetzung für die Anmeldung & Teilnahme !\nEinreichen deines persönlichen Horoskops (Radix) an AchAla per WhatsApp\, was gleichzeitig als verbindliche Anmeldung gilt\, da hierfür gewisse\, mit Aufwand verbundene Vorarbeiten notwendig sind. \n\n Veranstaltungsort: \nCasa Amato bei Daniela & Alfred – 80995 München (München Nord / Fasanerie)\, Reinachstr. 28 \n\n Termin: \nSonntag\, 15. November 2025\, 10:00 – 18:00 Uhr \n\n\n Kosten: \n99 EUR pro Person\, Inkl. sämtlicher Materialen\, Getränke und Snacks in den Pausen (außer Mittagspause). Bitte mitbringen: Eigene Brotzeit für die Mittagspause\, Schreibzeug und bequeme (Haus)Schuhe. \n Anmeldung: \nBevorzugt direkt Online über diese Veranstaltungsseite über den Button „ANMEDLUNG“ (bitte Voraussetzung beachten!) \noder per WhatsApp über die SoulCollage® Facilitatorin – Ulrike Potthast-Kühn\, 0160 / 97942207 oder über AchAla unter 0178 / 9197404 oder über Daniela (Casa Amato) unter 0177 / 3192657. \n\n\n\n! Wichtiger Hinweis:\nDer Workshop findet ab 4 Teilnehmern statt. Anmeldungen erbeten bis spätestens 03. November 2025
URL:https://www.inume.de/event/soulcollage-zum-thema-chirons-schmerz-und-heilung-mit-astrowuerfeln
LOCATION:Casa Amato –\, Reinachstr. 28\, München\, Bayern\, 80995\, Germany
CATEGORIES:Themen-Workshop,Workshop
ATTACH;FMTTYPE=image/png:https://www.inume.de/wp-content/uploads/2025/10/SoulCollage-Chirons-Schmerz-AstroWuerfel.png
ORGANIZER;CN="inume + AchAla":MAILTO:info@inume.de
END:VEVENT
BEGIN:VEVENT
DTSTART;TZID=Europe/Berlin:20251116T100000
DTEND;TZID=Europe/Berlin:20251116T170000
DTSTAMP:20260421T160504
CREATED:20251012T154733Z
LAST-MODIFIED:20251013T133046Z
UID:6344-1763287200-1763312400@www.inume.de
SUMMARY:Dialog mit dem Inneren Kind & Astrologisches Würfeln - SoulCollage Workshop
DESCRIPTION:Dialog mit dem Inneren Kind & Astrologisches Würfeln!\n\n\n\nDieser Workshop bietet dir die Gelegenheit zum Dialog mit deinen „Inneren-Kind-Anteilen“.\nAn diesem Tag erwarten dich eine kurze Einführung in die SoulCollage®-Methode und Innere-Kind-Arbeit\, eine geführte Meditation sowie die Gestaltung von individuellen Collage-Karten anhand speziellen Bildmaterials zum Thema „Innere-Kinder“. Deine eigens kreierten SoulCollage®-Karten können dir helfen\, eine visuelle und emotionale Verbindung zu Teilen deines Selbst herzustellen. Die Collagen-Erstellung erfolgt anhand deiner eigenen intuitiven Bilderauswahl\, mit Schere\, Cutter und Kleber\, spielerisch und nach Gefühl. Hierfür sind keine künstlerischen Fähigkeiten oder Vorkenntnisse erforderlich. Im Anschluss kannst du durch spezielle Fragestellungen und das Lesen nach der SoulCollage®-Methode deine Karte „reflektieren“. Dies ist eine Einladung\, mit deinem inneren Wissen und mit deiner Seele in Kontakt zu kommen. Die SoulCollage®-Methode wird angeleitet von Ulrike Potthast (SoulCollage®-Facilitatorin). \nAstrologische Würfel\nNach der kreativen Collage-Gestaltung kannst du erneut in ergänzender Art und Weise in Kontakt mit deinem Inneren Kind treten\, das in deinem Unterbewusst-SEIN lebt. Es führt dich und kann deine Entscheidungen und dein Verhalten sogar sabotieren. Es beeinflusst\, wie du auf Herausforderungen reagierst und wie du dein Leben lebst. AchAla bietet dir eine einfühlsame Wegbegleitung sowie astrologisches Würfeln und somit die Möglichkeit weiter in die Tiefe zu gehen\, neue Bilder und Glaubenssätze entstehen zu lassen und in Heilung mit deinem Inneren-Kind-Anteilen zu gehen; sei es\, mit deinem Schattenkind Frieden und Freundschaft zu schließen oder dein Sonnenkind zu entdecken und zu befreien. AchAla Khan ist eine weltweit geschulte spirituelle Heilerin und Wegbegleiterin. Sie ist astrologisch geschult\, medial mit der geistigen Welt verbunden und geht in Kontakt mit deinem Seelen- und Bewusstseinsweg. \nBitte mitbringen: \neigene Brotzeit für die Mittagspause\, Schreibzeug und Hausschuhe. \nModeration & Durchführung:\nUlrike Potthast-Kühn\, SoulCollage®-Facilitatorin in Zusammenwirken mit AchAla (astrologische Aussagen) \n\n Veranstaltungsort: \nSeelen*Garten Praxisräume bei Elisabeth Bierl\, Johann-Karg-Str. 77\,\n85540 Salmdorf\, bei Haar (Münchner Osten / Umland) \n Termin: \nSamstag\, 16. November 2025\, 10:00 – ca. 17:00 Uhr \n Kosten: \n99 EUR pro Person („bring-a-friend“ für Anmeldungen zu zweit: € 85 pro Person). Inkl. sämtlicher Materialen\, Getränke und Snacks in den Pausen (außer Mittagspause). \n Anmeldung: \nBevorzugt direkt Online über diese Veranstaltungsseite über den Button „ANMEDLUNG“ (bitte Voraussetzung beachten!) \noder per WhatsApp über die SoulCollage® Facilitatorin – Ulrike Potthast-Kühn\, 0160 / 97942207 oder bei AchAla unter: 0178 / 9197401  \n\n\n\n\n! Wichtiger Hinweis:\nDer Workshop findet ab 5 Teilnehmern statt. Anmeldungen erbeten bis spätestens 09. November 2025
URL:https://www.inume.de/event/dialog-mit-dem-inneren-kind-astrologisches-wuerfeln-soulcollage-workshop
LOCATION:Seelen*Garten bei E. Bierl –\, Johann-Karg-Str. 77\, Salmdorf b. Haar (Münchner Osten)\, Bayern\, 85540\, Germany
CATEGORIES:Themen-Workshop,Workshop
ATTACH;FMTTYPE=image/png:https://www.inume.de/wp-content/uploads/2025/10/SoulCollage-Inneres-Kind-AstroWuerfel.png
ORGANIZER;CN="inume + AchAla":MAILTO:info@inume.de
END:VEVENT
BEGIN:VEVENT
DTSTART;VALUE=DATE:20251129
DTEND;VALUE=DATE:20251201
DTSTAMP:20260421T160504
CREATED:20250801T072700Z
LAST-MODIFIED:20251117T135755Z
UID:5124-1764374400-1764547199@www.inume.de
SUMMARY:SoulCollage Einführungskurs
DESCRIPTION:SoulCollage® Einführungskurs: „Kreativbilder Deiner Seele“.\nEntdecke die Welt von SoulCollage® in einem zweitägigen Kurs.\nMöchtest du eine kreative Methode kennenlernen\, die dich auf deinem persönlichen Entwicklungsweg begleitet? Mein SoulCollage Einführungskurs bietet dir die Möglichkeit\, tief in die Welt von SoulCollage® einzutauchen. Der Kurs richtet sich an alle\, die SoulCollage® für den persönlichen Gebrauch erlernen möchten. \nInhalte des SoulCollage® Einführungskurses\nDauer: 14 Stunden (ohne Pausen) \nGrundlagen von SoulCollage®\n\nEinführung in die SoulCollage® Methode nach Seena B. Frost\nDie Grundsätze und Philosophie von SoulCollage®\nGestaltung und Technik von SoulCollage®-Karten\n\nDas SoulCollage®-Diagramm\n\nDie vier Dimensionen von SoulCollage®\nDie Verbindung zwischen individueller und kollektiver Geschichte\n\nTranspersonale Karten\n\nQuelle\, Seelenessenz\, Zeuge – die übergeordneten Energien\n\nDie Fundamente von SoulCollage®\n\nDas Eine und das Viele\nSowohl als auch – Gegensätze vereinen\nJede Karte enthält eine einzigartige Energie\nDie Sprache der Karten: Ich-Form als Ausdruck\n\nPraktische Übungen & Vertiefung\n\nIntuitive Befragung und Lesung von SoulCollage®-Karten\nÜbung: „Ich bin diejenige/derjenige\, die/der …“\nGeführte Visualisierung: Begegnung mit den Begleitern der energetischen Dimension\nMeditatives Arbeiten mit den erstellten Karten\n\nTeilnahme-Zertifikat\nAm Ende des Kurses erhältst du eine Teilnahmebestätigung über den erfolgreichen Abschluss des SoulCollage® Einführungskurses. \n\n\n\n\n\nHinweis: Wenn du SoulCollage® später weitergeben oder professionell anwenden möchtest\, ist das offizielle SoulCollage® Inc. Facilitator-Training erforderlich. Die Teilnahme an diesem SoulCollage® Einführungskurs ist eine der Voraussetzungen für die Ausbildung in einem Facilitator-Training. \n\n Veranstaltungsort: \nSeelengarten bei E. Bierl\, Johann-Karg-Str. 77\, 85540 Salmdorf b. Haar (Münchner Osten/Umland) \n Termin & Ablauf: \n29. und 30. November 2025 \nTag 1 – Samstag\, 29.11.2025: Start um 10:00 – ca. 18:30 Uhr mit Mittagspause u. Kaffeepause \nTag 2 – Sonntag\, 30.11.2205: Start um 09:00 – ca. 16:30 Uhr mit Mittagspause u. Kaffeepause \n Kosten:\n\n\n\n\n330\,00 EUR pro Person für den zweitägigen Einführungskurs \nInkl. aller Materialien\, Teilnahme-Zertifikat\, Getränke u. Snacks \n✎ Für Teilnehmer*innen die diesen Einführungskurs bei mir wiederholen möchten: 199\,00 € pro Person \n\n✎ Für Teilnehmer*innen\, die schon einen SoulCollage® Workshop bei mir besucht haben oder gleichzeitig eine zweite Person mitbringen: 290\,00 € pro Person \n\nKursleitung:\nUlrike Potthast-Kühn\, SoulCollage® Facilitatorin aus Vaterstetten b. München \nThema Verantwortung:\nAls Teilnehmer*in an obengenanntem Kurs\, trage ich in jedem Fall die volle Verantwortung für mich\, meine physische\, psychische und mentale Gesundheit selbst. Die Veranstalter und Leiter übernehmen für etwaige Schäden an Personen und Sachen\, außer bei Grobfahrlässigkeit ihrerseits\, keine Haftung. Mit meiner Anmeldung stimme ich den genannten Bedingungen zu. \n\n Anmeldung/Registrierung:\nBevorzugt direkt über diese Veranstaltungsseite über den Button „ANMEDLUNG“ oder per WhatsApp über die SoulCollage® Facilitatorin – Ulrike Potthast-Kühn\, 0160 / 97942207 \n! Wichtiger Hinweis: Der Einführungskurs findet ab 4 Teilnehmern statt (Mindest-Teilnehmerzahl)
URL:https://www.inume.de/event/soulcollage-einfuehrungskurs-08
LOCATION:Seelen*Garten bei E. Bierl –\, Johann-Karg-Str. 77\, Salmdorf b. Haar (Münchner Osten)\, Bayern\, 85540\, Germany
CATEGORIES:Einführungskurs,SoulCollage,Veranstaltung,Workshop
ATTACH;FMTTYPE=image/png:https://www.inume.de/wp-content/uploads/2025/11/SoulCollage-Einfuehrungskurs.png
ORGANIZER;CN="inume - souldrops":MAILTO:info@inume.de
END:VEVENT
END:VCALENDAR