BEGIN:VCALENDAR
VERSION:2.0
PRODID:-//SoulCollage® Studio - ECPv6.15.20//NONSGML v1.0//EN
CALSCALE:GREGORIAN
METHOD:PUBLISH
X-WR-CALNAME:SoulCollage® Studio
X-ORIGINAL-URL:https://www.inume.de
X-WR-CALDESC:Veranstaltungen für SoulCollage® Studio
REFRESH-INTERVAL;VALUE=DURATION:PT1H
X-Robots-Tag:noindex
X-PUBLISHED-TTL:PT1H
BEGIN:VTIMEZONE
TZID:Europe/Berlin
BEGIN:DAYLIGHT
TZOFFSETFROM:+0100
TZOFFSETTO:+0200
TZNAME:CEST
DTSTART:20230326T010000
END:DAYLIGHT
BEGIN:STANDARD
TZOFFSETFROM:+0200
TZOFFSETTO:+0100
TZNAME:CET
DTSTART:20231029T010000
END:STANDARD
BEGIN:DAYLIGHT
TZOFFSETFROM:+0100
TZOFFSETTO:+0200
TZNAME:CEST
DTSTART:20240331T010000
END:DAYLIGHT
BEGIN:STANDARD
TZOFFSETFROM:+0200
TZOFFSETTO:+0100
TZNAME:CET
DTSTART:20241027T010000
END:STANDARD
BEGIN:DAYLIGHT
TZOFFSETFROM:+0100
TZOFFSETTO:+0200
TZNAME:CEST
DTSTART:20250330T010000
END:DAYLIGHT
BEGIN:STANDARD
TZOFFSETFROM:+0200
TZOFFSETTO:+0100
TZNAME:CET
DTSTART:20251026T010000
END:STANDARD
END:VTIMEZONE
BEGIN:VEVENT
DTSTART;TZID=Europe/Berlin:20241123T093000
DTEND;TZID=Europe/Berlin:20241123T173000
DTSTAMP:20260424T014050
CREATED:20241008T074910Z
LAST-MODIFIED:20250806T123812Z
UID:3854-1732354200-1732383000@www.inume.de
SUMMARY:SoulCollage und Aura-Soma Workshop
DESCRIPTION:SoulCollage und Aura-Soma … eine besondere Kombination.\nIn beiden „Systemen“ spricht die Seele zu uns und weist uns hin auf HEILUNGS-BEDÜRFNISSE UND -MÖGLICHKEITEN. Erkenntnisse steigen aus der Tiefe des Unterbewusstseins auf. Der Mensch wird da abgeholt\, wo er im Moment steht und neue Ziele und Wege zur Verwirklichung unseres Seelenplans gelangen ins Bewusste. \nWas dich bei diesem Workshop erwartet:\nAuro-Soma am Vormittag\nHier erfährst du mehr über AURA SOMA® und Vicky Wall\, die dieses System in die Welt gebracht hat und es so beschreibt: „Du bist die Farben die du wählst und sie zeigen die Bedürfnisse deiner Seele“. Jede Farbkombination und jede von dir aus der Tiefe deines Unterbewusstseins gewählte Flasche hat eine ganz persönliche Botschaft für dich. Anhand deiner numerologischen Lebensflasche und deiner im JETZT gewählten Farbkombination wird Barbara für dich in einem persönlichen Kurzreading\, die Verbindung zu der Jahresflasche B24 mit dem Namen „Die neue Botschaft“ herstellen und deine individuelle Botschaft für das kommende Jahr herausfinden\, erkennen\, wie du am besten deinen Seelenplan erfüllst und somit mit Leichtigkeit und Freude dein Licht immer mehr leuchten lässt für dich und die Welt. Barbara Uder leitet diesen Teil des Workshops. \nBarbara Deva Agni Uder ist seit 27 Jahren Aura-Soma Lehrerin aller Stufen & Beraterin\, hat Aura-Soma Bücher geschrieben und Heilsysteme mit Aura-Soma gechannelt. \nSoulCollage am Nachmittag\nHier erwartet dich eine kurze Einführung in die SoulCollage®-Methode und eine zum Thema passende Meditation. Die SoulCollage®-Methode ist eine kreative und therapeutische Methode\, entwickelt von der amerikanischen Psychotherapeutin Seena Frost. Deine eigens kreierten SoulCollage®-Karten können dir helfen\, eine visuelle und emotionale Verbindung zu Teilen deines Selbst herzustellen. Die Collagen-Erstellung erfolgt anhand deiner intuitiven Bilderauswahl\, mit Schere\, Cutter und Kleber\, spielerisch und nach Gefühl. Du hast hierbei die Gelegenheit\, die gewonnenen Erkenntnisse (des AuraSoma®-Vormittags) sprechen zu lassen und mit Hilfe der SoulCollage®-Methode umzusetzen. Vorkenntnisse oder künstlerische Erfahrung sind nicht notwendig. Ulrike Potthast leitet diesen Teil des Workshops. \nUlrike Potthast ist ausgebildete SoulCollage®-Facilitatorin\, hat viele SoulCollage®Workshops angeleitet und mehrfach bei der Ausbildung zukünftiger SoulCollage®-Facilitatorinnen assistieren können. \nVeranstaltungsort\nSeelen*Garten – Praxis-Räumen E. Bierl; Johann-Karg-Str. 77 in 85540 Salmdorf (bei Haar\, München-Ost) \nTermin:  23. November 2024\, Start 9:30\, Ende ca. 17:30\nEnergieausgleich/Kosten:\n€122 pro Person (Der Energieausgleich beinhaltet: Kursmaterialien\, Getränke und Snacks in den Pausen) \nBitte selbst mitbringen: eigene Brotzeit für die Mittagspause\, Schreibzeug und Hausschuhe. \nKursleitung:\nUlrike Potthast\, SoulCollage® Facilitatorin aus Vaterstetten b. München \nBarbara Uder\, AURA-SOMA® Lehrerin aller Stufen \nThema Verantwortung:\nAls Teilnehmer*in an oben genanntem Kurs\, trage ich in jedem Fall die volle Verantwortung für mich\, meine physische\, psychische und mentale Gesundheit selbst. Die Veranstalter und Leiter übernehmen für etwaige Schäden an Personen und Sachen\, außer bei Grobfahrlässigkeit ihrerseits\, keine Haftung. Mit meiner Anmeldung stimme ich den genannten Bedingungen zu. \n\nAnmeldung/Registrierung:\nBevorzugt bitte direkt über diese Veranstaltungsseite (alternativ telefonisch oder per WhatsApp) \nUlrike Potthast (inume): 0160 – 9794 22 07 \nBarbara Uder (AURA-SOMA): 0171 – 5773242 \nWichtiger Hinweise: Dieser gemeinsame SoulCollage® und Aura-Soma® Workshop findet ab 6 Teilnehmern statt (Mindest-Teilnehmerzahl). Anmeldeschluss ist der 20.11.204
URL:https://www.inume.de/event/soulcollage-und-aura-soma-workshop
LOCATION:Seelen*Garten bei E. Bierl –\, Johann-Karg-Str. 77\, Salmdorf b. Haar (Münchner Osten)\, Bayern\, 85540\, Germany
CATEGORIES:Seminar,SoulCollage,Veranstaltung,Workshop
ATTACH;FMTTYPE=image/png:https://www.inume.de/wp-content/uploads/2024/10/WS-20241123-AuraSoma-plain-3.png
ORGANIZER;CN="inume - souldrops":MAILTO:info@inume.de
END:VEVENT
END:VCALENDAR