BEGIN:VCALENDAR
VERSION:2.0
PRODID:-//SoulCollage® Studio - ECPv6.15.20//NONSGML v1.0//EN
CALSCALE:GREGORIAN
METHOD:PUBLISH
X-ORIGINAL-URL:https://www.inume.de
X-WR-CALDESC:Veranstaltungen für SoulCollage® Studio
REFRESH-INTERVAL;VALUE=DURATION:PT1H
X-Robots-Tag:noindex
X-PUBLISHED-TTL:PT1H
BEGIN:VTIMEZONE
TZID:Europe/Berlin
BEGIN:DAYLIGHT
TZOFFSETFROM:+0100
TZOFFSETTO:+0200
TZNAME:CEST
DTSTART:20230326T010000
END:DAYLIGHT
BEGIN:STANDARD
TZOFFSETFROM:+0200
TZOFFSETTO:+0100
TZNAME:CET
DTSTART:20231029T010000
END:STANDARD
BEGIN:DAYLIGHT
TZOFFSETFROM:+0100
TZOFFSETTO:+0200
TZNAME:CEST
DTSTART:20240331T010000
END:DAYLIGHT
BEGIN:STANDARD
TZOFFSETFROM:+0200
TZOFFSETTO:+0100
TZNAME:CET
DTSTART:20241027T010000
END:STANDARD
BEGIN:DAYLIGHT
TZOFFSETFROM:+0100
TZOFFSETTO:+0200
TZNAME:CEST
DTSTART:20250330T010000
END:DAYLIGHT
BEGIN:STANDARD
TZOFFSETFROM:+0200
TZOFFSETTO:+0100
TZNAME:CET
DTSTART:20251026T010000
END:STANDARD
END:VTIMEZONE
BEGIN:VEVENT
DTSTART;VALUE=DATE:20240608
DTEND;VALUE=DATE:20240610
DTSTAMP:20260424T074105
CREATED:20240321T153021Z
LAST-MODIFIED:20250806T124108Z
UID:3102-1717804800-1717977599@www.inume.de
SUMMARY:SoulCollage Einführungskurs
DESCRIPTION:„Kreativbilder Deiner Seele“\nSoulCollage® ist eine Methode\, welche die individuelle Erforschung\, Entdeckung und Weiterentwicklung der eigenen Persönlichkeit unterstützt. Was in diesem Kurs vermittelt wird\, ist für Ihren persönlichen Gebrauch bestimmt. Sie lernen in diesem zweitägigen Kurs die Grundlagen von SoulCollage® kennen und gestalten mehrere SoulCollage® Karten. Wenn Sie diese Methode weitergeben oder professionell anwenden möchten\, müssen Sie das von der SoulCollage® Inc. autorisierte SoulCollage®-Facilitator-Training absolvieren. Dieser zweitägige Einführungskurs zählt als eine der Voraussetzungen für die Teilnahme am zuvor erwähnten SoulCollage®-Facilitator-Training. \n\n\n\n\nVermittelte Inhalte:  (Zeitumfang: Weiterbildung exkl. Pause: 14 Std)\n\nEinführung in die Methode SoulCollage® von Seena B. Frost\nDie Grundsätze von SoulCollage®\nGestaltung und Technik von SoulCollage® Karten\nSoulCollage® Diagramm:\n\nDie ⓸ Dimensionen von SoulCollage®\n\n\nDie lokale und die übergeordnete Geschichte\nTranspersonale Karten:\n\nQuelle\, Seelenessenz\, Zeuge\n\n\nFundamente von SoulCollage®:\n\n☞ Das Eine und das Viele\n☞ Sowohl als auch\n☞ Jede Karte enthält eine einzigartige Energie\n☞ Die Karte spricht in erster Person\n\n\nSoulCollage® Karten intuitiv befragen und lesen\nÜbung: Ich bin diejenige/derjenige\, die/der . . .\nGeführte Visualisierung: Begegnung mit den Begleitern der energetischen Dimension\nMeditatives Arbeiten\n\nAbschließendes Zertifikat über die Teilnahme am Kurs \n\n\n\n\nVeranstaltungsort\nSeelen*Garten in den Praxis-Räumen von Elisabeth Bierl\,  85540 Salmdorf\,  Johann-Karg-Str. 77 (bei München Haar) \nTermin & Ablauf: 08. und 09. Juni 2024\nTag 1 – Samstag 08.06.2024: Start um 10:00 – ca. 18:30 Uhr mit Mittagspause u. Kaffeepause \nTag 2 – Sonntag 09.06.2024: Start um 09:00 – ca. 16:30 Uhr mit Mittagspause u. Kaffeepause \nKosten:\n320\,00 EUR pro Person für den zweitägigen Einführungskurs \nInkl. aller Materialien\, Teilnahme-Zertifikat\, Getränke u. Snacks \n✎ Für Teilnehmer*innen die diesen Einführungskurs bei mir wiederholen möchten: 199\,00 € pro Person \n\n✎ Für Teilnehmer*innen\, die schon einen SoulCollage® Workshop bei mir besucht haben oder gleichzeitig eine zweite Person mitbringen: 280\,00 € pro Person \n\nKursleitung:\nUlrike Potthast-Kühn\, SoulCollage® Facilitatorin aus Vaterstetten b. München \nAnmeldung/Registrierung:\ndirekt über diese Veranstaltungsseite\, per email\, telefonisch oder per WhatsApp: \nulli@potthasthome.de (www.inume.de) \nWichtiger Hinweise: Der Einführungskurs findet ab 5 Teilnehmern statt (Mindest-Teilnehmerzahl) \nThema Verantwortung:\nAls Teilnehmer*in an obengenanntem Kurs\, trage ich in jedem Fall die volle Verantwortung für mich\, meine physische\, psychische und mentale Gesundheit selbst. Die Veranstalter und Leiter übernehmen für etwaige Schäden an Personen und Sachen\, außer bei Grobfahrlässigkeit ihrerseits\, keine Haftung. Mit meiner Anmeldung stimme ich den genannten Bedingungen zu.
URL:https://www.inume.de/event/soulcollage-einfuehrungskurs
LOCATION:Seelen*Garten bei E. Bierl –\, Johann-Karg-Str. 77\, Salmdorf b. Haar (Münchner Osten)\, Bayern\, 85540\, Germany
CATEGORIES:Ausbildung,Einführungskurs,SoulCollage
ATTACH;FMTTYPE=image/png:https://www.inume.de/wp-content/uploads/2024/03/inume-ws-202406.png
ORGANIZER;CN="inume - souldrops":MAILTO:info@inume.de
END:VEVENT
END:VCALENDAR