BEGIN:VCALENDAR
VERSION:2.0
PRODID:-//SoulCollage® Studio - ECPv6.15.20//NONSGML v1.0//EN
CALSCALE:GREGORIAN
METHOD:PUBLISH
X-WR-CALNAME:SoulCollage® Studio
X-ORIGINAL-URL:https://www.inume.de
X-WR-CALDESC:Veranstaltungen für SoulCollage® Studio
REFRESH-INTERVAL;VALUE=DURATION:PT1H
X-Robots-Tag:noindex
X-PUBLISHED-TTL:PT1H
BEGIN:VTIMEZONE
TZID:Europe/Berlin
BEGIN:DAYLIGHT
TZOFFSETFROM:+0100
TZOFFSETTO:+0200
TZNAME:CEST
DTSTART:20240331T010000
END:DAYLIGHT
BEGIN:STANDARD
TZOFFSETFROM:+0200
TZOFFSETTO:+0100
TZNAME:CET
DTSTART:20241027T010000
END:STANDARD
BEGIN:DAYLIGHT
TZOFFSETFROM:+0100
TZOFFSETTO:+0200
TZNAME:CEST
DTSTART:20250330T010000
END:DAYLIGHT
BEGIN:STANDARD
TZOFFSETFROM:+0200
TZOFFSETTO:+0100
TZNAME:CET
DTSTART:20251026T010000
END:STANDARD
BEGIN:DAYLIGHT
TZOFFSETFROM:+0100
TZOFFSETTO:+0200
TZNAME:CEST
DTSTART:20260329T010000
END:DAYLIGHT
BEGIN:STANDARD
TZOFFSETFROM:+0200
TZOFFSETTO:+0100
TZNAME:CET
DTSTART:20261025T010000
END:STANDARD
END:VTIMEZONE
BEGIN:VEVENT
DTSTART;VALUE=DATE:20250315
DTEND;VALUE=DATE:20250317
DTSTAMP:20260423T130425
CREATED:20241226T092452Z
LAST-MODIFIED:20250806T123539Z
UID:4113-1741996800-1742169599@www.inume.de
SUMMARY:SoulCollage Einführungskurs
DESCRIPTION:SoulCollage Einführungskurs: „Kreativbilder Deiner Seele“\nSoulCollage® ist eine Methode\, welche die individuelle Erforschung\, Entdeckung und Weiterentwicklung der eigenen Persönlichkeit unterstützt. Was in diesem Kurs vermittelt wird\, ist für Ihren persönlichen Gebrauch bestimmt. Sie lernen in diesem zweitägigen Kurs die Grundlagen von SoulCollage® kennen und gestalten mehrere SoulCollage® Karten. \n\n\n\n\nVermittelte Inhalte:  (Zeitumfang: Weiterbildung exkl. Pause: 14 Std)\n\nEinführung in die SoulCollage® Methode\, entwickelt von Seena B. Frost\nDie Grundsätze von SoulCollage®\nGestaltung und Technik von SoulCollage® Karten\nDas SoulCollage® Diagramm:\n\nDie VIER Dimensionen von SoulCollage\n\n\nDie lokale und die übergeordnete Geschichte\nTranspersonale Karten:\n\nQuelle\, Seelenessenz\, Zeuge\n\n\nFundamente von SoulCollage®:\n\nDas Eine und das Viele\nSowohl als auch\nJede Karte enthält eine einzigartige Energie\nDie Karte spricht in erster Person\n\n\nSoulCollage® Karten intuitiv befragen und lesen\nÜbung: Ich bin diejenige/derjenige\, die/der . . .\nGeführte Visualisierung: Begegnung mit den Begleitern der energetischen Dimension\nMeditatives Arbeiten\n\nAbschließendes Zertifikat über die Teilnahme am Kurs. \n\nHinweis: Wenn Sie diese Methode weitergeben oder professionell anwenden möchten\, müssen Sie das von der SoulCollage® Inc. autorisierte SoulCollage® Facilitator Training absolvieren. Dieser Einführungskurs zählt als Voraussetzung für die Teilnahme an einem SoulCollage® Facilitator Training. \n\n Veranstaltungsort: \nSeelengarten bei E. Bierl\, Johann-Karg-Str. 77\, 85540 Salmdorf b. Haar (Münchner Osten/Umland) \n Termin & Ablauf: \n15. und 16. März 2025 \nTag 1 – Samstag\, 15.03.2025: Start um 10:00 – ca. 18:30 Uhr mit Mittagspause u. Kaffeepause \nTag 2 – Sonntag\, 16.03.2205: Start um 09:00 – ca. 16:30 Uhr mit Mittagspause u. Kaffeepause \n Kosten:\n\n\n\n\n330\,00 EUR pro Person für den zweitägigen Einführungskurs \nInkl. aller Materialien\, Teilnahme-Zertifikat\, Getränke u. Snacks \n✎ Für Teilnehmer*innen die diesen Einführungskurs bei mir wiederholen möchten: 199\,00 € pro Person \n\n✎ Für Teilnehmer*innen\, die schon einen SoulCollage® Workshop bei mir besucht haben oder gleichzeitig eine zweite Person mitbringen: 290\,00 € pro Person \n\nKursleitung:\nUlrike Potthast-Kühn\, SoulCollage® Facilitatorin aus Vaterstetten b. München \nThema Verantwortung:\nAls Teilnehmer*in an obengenanntem Kurs\, trage ich in jedem Fall die volle Verantwortung für mich\, meine physische\, psychische und mentale Gesundheit selbst. Die Veranstalter und Leiter übernehmen für etwaige Schäden an Personen und Sachen\, außer bei Grobfahrlässigkeit ihrerseits\, keine Haftung. Mit meiner Anmeldung stimme ich den genannten Bedingungen zu. \n\n Anmeldung/Registrierung:\nDirekt über diese Veranstaltungsseite über den Button „ANMEDLUNG“ oder per WhatsApp über die SoulCollage® Facilitatorin – Ulrike Potthast-Kühn\, 0160 / 97942207 \n! Wichtiger Hinweis: Der Einführungskurs findet ab 4 Teilnehmern statt (Mindest-Teilnehmerzahl)
URL:https://www.inume.de/event/soulcollage-einfuehrungskurs-3
LOCATION:Seelen*Garten bei E. Bierl –\, Johann-Karg-Str. 77\, Salmdorf b. Haar (Münchner Osten)\, Bayern\, 85540\, Germany
CATEGORIES:Ausbildung,Einführungskurs,SoulCollage
ATTACH;FMTTYPE=image/png:https://www.inume.de/wp-content/uploads/2024/12/SC-Einfuehrungskurs-inume.png
ORGANIZER;CN="inume - souldrops":MAILTO:info@inume.de
END:VEVENT
END:VCALENDAR