BEGIN:VCALENDAR
VERSION:2.0
PRODID:-//SoulCollage® Studio - ECPv6.15.20//NONSGML v1.0//EN
CALSCALE:GREGORIAN
METHOD:PUBLISH
X-ORIGINAL-URL:https://www.inume.de
X-WR-CALDESC:Veranstaltungen für SoulCollage® Studio
REFRESH-INTERVAL;VALUE=DURATION:PT1H
X-Robots-Tag:noindex
X-PUBLISHED-TTL:PT1H
BEGIN:VTIMEZONE
TZID:Europe/Berlin
BEGIN:DAYLIGHT
TZOFFSETFROM:+0100
TZOFFSETTO:+0200
TZNAME:CEST
DTSTART:20220327T010000
END:DAYLIGHT
BEGIN:STANDARD
TZOFFSETFROM:+0200
TZOFFSETTO:+0100
TZNAME:CET
DTSTART:20221030T010000
END:STANDARD
BEGIN:DAYLIGHT
TZOFFSETFROM:+0100
TZOFFSETTO:+0200
TZNAME:CEST
DTSTART:20230326T010000
END:DAYLIGHT
BEGIN:STANDARD
TZOFFSETFROM:+0200
TZOFFSETTO:+0100
TZNAME:CET
DTSTART:20231029T010000
END:STANDARD
BEGIN:DAYLIGHT
TZOFFSETFROM:+0100
TZOFFSETTO:+0200
TZNAME:CEST
DTSTART:20240331T010000
END:DAYLIGHT
BEGIN:STANDARD
TZOFFSETFROM:+0200
TZOFFSETTO:+0100
TZNAME:CET
DTSTART:20241027T010000
END:STANDARD
END:VTIMEZONE
BEGIN:VEVENT
DTSTART;VALUE=DATE:20230401
DTEND;VALUE=DATE:20230403
DTSTAMP:20260425T001943
CREATED:20230809T131634Z
LAST-MODIFIED:20230809T132646Z
UID:1105-1680307200-1680479999@www.inume.de
SUMMARY:SoulCollage® – Kreativbilder Deiner Seele – Einführungskurs
DESCRIPTION:Mit Michaela Meierlohr (Atelier Mevo) und Ulrike Potthast (inume)\nSoulCollage® ist eine Methode\, welche die individuelle Erforschung und Entdeckung\, der eigenen Persönlichkeit unterstützt. Wer diese Methode gerne gemeinsam mit anderen ausüben möchte oder in seiner Praxis oder in seinem Atelier anwenden möchte\, braucht dafür die Ausbildung zur Facilitatorin. Dieser Einführungskurs gilt als Zugangsvoraussetzung zur Teilnahme an der Ausbildung zum SoulCollage®-Facilitator*in.
URL:https://www.inume.de/event/soulcollage-kreativbilder-deiner-seele-einfuehrungskurs
LOCATION:Atelier Mevo –\, Altdorf bei Landshut\, Bayern\, Germany
CATEGORIES:SoulCollage,Workshop
ATTACH;FMTTYPE=image/png:https://www.inume.de/wp-content/uploads/2022/08/SCFlogosmall.png
ORGANIZER;CN="inume + Atelier Mevo":MAILTO:info@inume.de
END:VEVENT
BEGIN:VEVENT
DTSTART;TZID=Europe/Berlin:20230422T093000
DTEND;TZID=Europe/Berlin:20230422T180000
DTSTAMP:20260425T001943
CREATED:20230809T132315Z
LAST-MODIFIED:20230809T132732Z
UID:1110-1682155800-1682186400@www.inume.de
SUMMARY:SoulCollage® meets Aura-Soma
DESCRIPTION:SoulCollage® meets Aura-Soma In Kooperation mit Barbara Uder\n\nBewusstseins-Tag  – Vision und Heilung für 2023\n\nDie Erkenntnisse und das Thema des persönlichen Aura-Soma-Readings vom Vormittag werden am Nachmittag mit Hilfe von eigens  gestalteten   SoulCollage®-Karten zum Ausdruck gebracht und abschließend gelesen (nach der Methode von SoulCollage®
URL:https://www.inume.de/event/soulcollage-meets-aura-soma-2
LOCATION:Praxis-Räume Dr. med F. Pflüger\, Ottobrunnerstr. 69\, Ottobrunn\, Deutschland
CATEGORIES:SoulCollage,Workshop
ORGANIZER;CN="inume":MAILTO:info@inume.de
END:VEVENT
END:VCALENDAR