BEGIN:VCALENDAR
VERSION:2.0
PRODID:-//SoulCollage® Studio - ECPv6.15.20//NONSGML v1.0//EN
CALSCALE:GREGORIAN
METHOD:PUBLISH
X-ORIGINAL-URL:https://www.inume.de
X-WR-CALDESC:Veranstaltungen für SoulCollage® Studio
REFRESH-INTERVAL;VALUE=DURATION:PT1H
X-Robots-Tag:noindex
X-PUBLISHED-TTL:PT1H
BEGIN:VTIMEZONE
TZID:Europe/Berlin
BEGIN:DAYLIGHT
TZOFFSETFROM:+0100
TZOFFSETTO:+0200
TZNAME:CEST
DTSTART:20220327T010000
END:DAYLIGHT
BEGIN:STANDARD
TZOFFSETFROM:+0200
TZOFFSETTO:+0100
TZNAME:CET
DTSTART:20221030T010000
END:STANDARD
BEGIN:DAYLIGHT
TZOFFSETFROM:+0100
TZOFFSETTO:+0200
TZNAME:CEST
DTSTART:20230326T010000
END:DAYLIGHT
BEGIN:STANDARD
TZOFFSETFROM:+0200
TZOFFSETTO:+0100
TZNAME:CET
DTSTART:20231029T010000
END:STANDARD
BEGIN:DAYLIGHT
TZOFFSETFROM:+0100
TZOFFSETTO:+0200
TZNAME:CEST
DTSTART:20240331T010000
END:DAYLIGHT
BEGIN:STANDARD
TZOFFSETFROM:+0200
TZOFFSETTO:+0100
TZNAME:CET
DTSTART:20241027T010000
END:STANDARD
END:VTIMEZONE
BEGIN:VEVENT
DTSTART;VALUE=DATE:20231125
DTEND;VALUE=DATE:20231127
DTSTAMP:20260424T091958
CREATED:20230901T090837Z
LAST-MODIFIED:20250130T093818Z
UID:1473-1700870400-1701043199@www.inume.de
SUMMARY:SoulCollage® Einführungskurs – Kreativbilder Deiner Seele
DESCRIPTION:Weiterbildungsseminar\nSoulCollage® Einführungskurs – Kreativbilder Deiner Seele – Einführungskurs\nOffen für alle an SoulCollage® interessierten Menschen! Phase 1 der Ausbildung zum/r SoulCollage® Facilitator*in – Einführungskurs mit Teilnahmezertifikat\, wird für das SoulCollage® Training zum/r SoulCollage®-Facilitator*in anerkannt \nVeranstaltungsort \nPraxis Seelen*Garten von Elisabeth Bierl in 85540 Salmdorf (bei Haar) Johan-Karg-Str. 77 \nDatum/Termin & Ablauf \n25. und 26. November 2023 \nTag 1 – Samstag 25.11.2023:  \nStart um 10:00 Uhr mit Mittagspause\, Kaffeepause und gemeinsamen Abendessen\, anschließend Open Space Kartenworkshop bis ca. 22:00 Uhr  \nTag 2 – Sonntag 26.11.2023:  \nStart um 09:00 Uhr mit Mittagspause \nEnde ca. 16:00 Uhr \nKosten: \n320\,00 EUR für beide Tage zzgl. Kosten für Verpflegung am Samstag \nFür alle die schon einen SoulCollage® Workshop bei einer der beiden Facilitatorinnen/Dozentinnen besucht haben oder eine 2. Person mitbringen möchten\, reduzieren sich die Kosten auf 280\,00 EUR pro Person. \nVermittelte Inhalte:  (Zeitumfang: Weiterbildung exkl. Pause: 14 Std) \n\nEinführung in die Methode SoulCollage® von Seena B.Frost\nDie Grundsätze von SoulCollage®\nGestaltung und Technik von SoulCollage® Karten\nSoulCollage® Diagramm: die 4 Dimensionen von SoulCollage®\nDie lokale und die übergeordnete Geschichte\nQuelle\, Seelenessenz\, Zeuge\nFundament von SoulCollage®: Das Eine und das Viele / Sowohl als auch / jede Karte enthält 1 einzigartige Energie / Die Karte spricht in erster Person\nSoulCollage® Karten intuitiv befragen und lesen\nIch bin diejenige/derjenige\, die/der… Übung\nGeführte Visualisation: Begegnung mit den Begleitern der energetischen Dimension\nMeditatives Arbeiten     \n\nSoulCollage Facilitator / Kursleiter:\nUlrike Potthast\, SoulCollage® Facilitatorin aus Vaterstetten b. München \nMichaela Meierlohr\, SoulCollage® Facilitatorin aus Altdorf \nHINWEIS: \nAls Teilnehmer/in an oben genanntem Retreat/Seminar\, trage ich in jedem Fall die volle Verantwortung für mich\, meine physische\, psychische und mentale Gesundheit selbst. Die Veranstalterin und Leiterin übernehmen für etwaige Schäden an Personen und Sachen\, ausser bei Grobfahrlässigkeit ihrerseits\, keine Haftung. Mit meiner Anmeldung stimme ich den genannten Bedingungen zu. \nAnmeldung/Registrierung:\ndirekt über diese Veranstaltungsseite oder per email an eine der beiden SoulCollage® Facilitatorinnen: Michaela.Meierlohr@gmx.de oder ulli@potthasthome.de
URL:https://www.inume.de/event/soulcollage-einfuehrungskurs-kreativbilder-deiner-seele
LOCATION:Gstadt am Chiemsee\, Seeplatz 5\, Gstadt am Chiemsee (Tourist Info Gstadt - Haus des Gastes)\, Bayern\, 83257\, Germany
CATEGORIES:Seminar,SoulCollage,Workshop
ATTACH;FMTTYPE=image/png:https://www.inume.de/wp-content/uploads/2022/08/facilitator_logo-slogan_H2v1_5_LR-e1659773651148.png
ORGANIZER;CN="inume + Atelier Mevo":MAILTO:info@inume.de
END:VEVENT
END:VCALENDAR