BEGIN:VCALENDAR
VERSION:2.0
PRODID:-//SoulCollage® Studio - ECPv6.15.20//NONSGML v1.0//EN
CALSCALE:GREGORIAN
METHOD:PUBLISH
X-ORIGINAL-URL:https://www.inume.de
X-WR-CALDESC:Veranstaltungen für SoulCollage® Studio
REFRESH-INTERVAL;VALUE=DURATION:PT1H
X-Robots-Tag:noindex
X-PUBLISHED-TTL:PT1H
BEGIN:VTIMEZONE
TZID:Europe/Berlin
BEGIN:DAYLIGHT
TZOFFSETFROM:+0100
TZOFFSETTO:+0200
TZNAME:CEST
DTSTART:20230326T010000
END:DAYLIGHT
BEGIN:STANDARD
TZOFFSETFROM:+0200
TZOFFSETTO:+0100
TZNAME:CET
DTSTART:20231029T010000
END:STANDARD
BEGIN:DAYLIGHT
TZOFFSETFROM:+0100
TZOFFSETTO:+0200
TZNAME:CEST
DTSTART:20240331T010000
END:DAYLIGHT
BEGIN:STANDARD
TZOFFSETFROM:+0200
TZOFFSETTO:+0100
TZNAME:CET
DTSTART:20241027T010000
END:STANDARD
BEGIN:DAYLIGHT
TZOFFSETFROM:+0100
TZOFFSETTO:+0200
TZNAME:CEST
DTSTART:20250330T010000
END:DAYLIGHT
BEGIN:STANDARD
TZOFFSETFROM:+0200
TZOFFSETTO:+0100
TZNAME:CET
DTSTART:20251026T010000
END:STANDARD
END:VTIMEZONE
BEGIN:VEVENT
DTSTART;TZID=Europe/Berlin:20240107T140000
DTEND;TZID=Europe/Berlin:20240107T170000
DTSTAMP:20260424T060759
CREATED:20231128T084943Z
LAST-MODIFIED:20240204T175803Z
UID:2088-1704636000-1704646800@www.inume.de
SUMMARY:SoulCollage® Kartenworkshop
DESCRIPTION:SoulCollage® kennenlernen – „offener“ Kartenworkshop.\n\n\n\nIn diesem offenen Kartenworkshop kannst du die SoulCollage®-Methode kennenlernen oder/und dein bereits vorhandenes SoulCollage®-Kartendeck erweitern. SoulCollage® bietet dir Gelegenheit\, dich tiefer mit deiner inneren Weisheit zu verbinden – ein spirituell nährender Rahmen zur Selbsterforschung. \nSoulCollage® ist eine Methode\, bei der du anhand intuitiv ausgewählter Bilder aus Magazinen deine eigenen „Seelen-Karten“ gestaltest. SoulCollage®-Karten spiegeln dein Innerstes\, „deine Seelen-Themen“\, deine Sehnsüchte und Träume und verbinden dich mit deiner inneren Weisheit und Kraft. Du kannst deine eigens gestalteten Karten in verschiedener Weise nutzen: zur Visionsfindung\, als Hilfestellung in schwierigen Lebenslagen\, zur Verarbeitung bestimmter Themen\, zur persönlichen „Ent“-Wicklung\, in therapeutischen Prozessen\, als Orakel\, etc. Deine SoulCollage®-Karten werden dich immer wieder neu überraschen und dir wunderbare und persönliche Wegbegleiter im Alltag sein. \nIm Kartenworkshop kannst du mehrere SoulCollage®-Karten gestalten\, die jeweils gleich im Anschluss individuell „gelesen“ werden – sicher mit einer wertvollen Botschaft für dich\, die aus deiner Seele spricht. Es sind keine künstlerischen Vorkenntnisse oder Erfahrungen mit Collagen notwendig. Sowohl Collage-Frischlinge als auch Collage-Enthusiast*innen sind herzlich willkommen. \nAnmeldung:\n\n\n\nDirekt über diese Veranstaltungsseite über den Button unten „noch heute registrieren“ oder per WhatsApp über die SoulCollage® Facilitatorin – Ulrike Potthast-Kühn\, 0160 / 97942207 \nKosten:\n45 € incl. Arbeitsmittel/Material und Snacks; Getränke sind vor Ort erhältlich (kostenpflichtig) \n\n\n\n\n\n\nWichtiger Hinweis:\nDer Karten-Workshop findet ab 5 Teilnehmern statt. Anmeldungen erbeten bis spätestens\, 03.01.2024
URL:https://www.inume.de/event/soulcollage-kartenworkshop-240107
LOCATION:Arcus Hotel\, Vaterstettener Str. 1\, Vaterstetten Weißenfeld\, Bayern\, 85622\, Deutschland
CATEGORIES:Karten-Workshop,Workshop
ATTACH;FMTTYPE=image/png:https://www.inume.de/wp-content/uploads/2023/12/SoulCollage-Logo-Tagline-e1703079508806.png
ORGANIZER;CN="inume - souldrops":MAILTO:info@inume.de
END:VEVENT
END:VCALENDAR